BEGIN:VCALENDAR
VERSION:2.0
PRODID:-//Muziekpraktijk Pianissimo - ECPv6.15.20//NONSGML v1.0//EN
CALSCALE:GREGORIAN
METHOD:PUBLISH
X-WR-CALNAME:Muziekpraktijk Pianissimo
X-ORIGINAL-URL:https://www.mp-pianissimo.nl
X-WR-CALDESC:Evenementen voor Muziekpraktijk Pianissimo
REFRESH-INTERVAL;VALUE=DURATION:PT1H
X-Robots-Tag:noindex
X-PUBLISHED-TTL:PT1H
BEGIN:VTIMEZONE
TZID:Europe/Amsterdam
BEGIN:DAYLIGHT
TZOFFSETFROM:+0100
TZOFFSETTO:+0200
TZNAME:CEST
DTSTART:20250330T010000
END:DAYLIGHT
BEGIN:STANDARD
TZOFFSETFROM:+0200
TZOFFSETTO:+0100
TZNAME:CET
DTSTART:20251026T010000
END:STANDARD
BEGIN:DAYLIGHT
TZOFFSETFROM:+0100
TZOFFSETTO:+0200
TZNAME:CEST
DTSTART:20260329T010000
END:DAYLIGHT
BEGIN:STANDARD
TZOFFSETFROM:+0200
TZOFFSETTO:+0100
TZNAME:CET
DTSTART:20261025T010000
END:STANDARD
BEGIN:DAYLIGHT
TZOFFSETFROM:+0100
TZOFFSETTO:+0200
TZNAME:CEST
DTSTART:20270328T010000
END:DAYLIGHT
BEGIN:STANDARD
TZOFFSETFROM:+0200
TZOFFSETTO:+0100
TZNAME:CET
DTSTART:20271031T010000
END:STANDARD
END:VTIMEZONE
BEGIN:VEVENT
DTSTART;TZID=Europe/Amsterdam:20260418T200000
DTEND;TZID=Europe/Amsterdam:20260418T223000
DTSTAMP:20260424T214722
CREATED:20260204T102405Z
LAST-MODIFIED:20260204T114607Z
UID:6154-1776542400-1776551400@www.mp-pianissimo.nl
SUMMARY:Optreden KSH met TCB
DESCRIPTION:The College Barbers zijn door de Koninklijke Stedelijke Harmonie gevraagd bij te dragen aan hun concert op 18 april. Leuk!!!
URL:https://www.mp-pianissimo.nl/event/optreden-ksh-met-tcb
LOCATION:Bolwerk\, Ravelijn 55\, Apeldoorn\, Netherlands
CATEGORIES:Koren,Optredens,The College Barbers
END:VEVENT
END:VCALENDAR