BEGIN:VCALENDAR
VERSION:2.0
PRODID:-//Muziekpraktijk Pianissimo - ECPv6.15.20//NONSGML v1.0//EN
CALSCALE:GREGORIAN
METHOD:PUBLISH
X-WR-CALNAME:Muziekpraktijk Pianissimo
X-ORIGINAL-URL:https://www.mp-pianissimo.nl
X-WR-CALDESC:Evenementen voor Muziekpraktijk Pianissimo
REFRESH-INTERVAL;VALUE=DURATION:PT1H
X-Robots-Tag:noindex
X-PUBLISHED-TTL:PT1H
BEGIN:VTIMEZONE
TZID:Europe/Amsterdam
BEGIN:DAYLIGHT
TZOFFSETFROM:+0100
TZOFFSETTO:+0200
TZNAME:CEST
DTSTART:20250330T010000
END:DAYLIGHT
BEGIN:STANDARD
TZOFFSETFROM:+0200
TZOFFSETTO:+0100
TZNAME:CET
DTSTART:20251026T010000
END:STANDARD
BEGIN:DAYLIGHT
TZOFFSETFROM:+0100
TZOFFSETTO:+0200
TZNAME:CEST
DTSTART:20260329T010000
END:DAYLIGHT
BEGIN:STANDARD
TZOFFSETFROM:+0200
TZOFFSETTO:+0100
TZNAME:CET
DTSTART:20261025T010000
END:STANDARD
BEGIN:DAYLIGHT
TZOFFSETFROM:+0100
TZOFFSETTO:+0200
TZNAME:CEST
DTSTART:20270328T010000
END:DAYLIGHT
BEGIN:STANDARD
TZOFFSETFROM:+0200
TZOFFSETTO:+0100
TZNAME:CET
DTSTART:20271031T010000
END:STANDARD
END:VTIMEZONE
BEGIN:VEVENT
DTSTART;TZID=Europe/Amsterdam:20260322T150000
DTEND;TZID=Europe/Amsterdam:20260322T170000
DTSTAMP:20260424T144242
CREATED:20260106T214159Z
LAST-MODIFIED:20260106T214305Z
UID:6150-1774191600-1774198800@www.mp-pianissimo.nl
SUMMARY:Besloten optreden The College Barbers
DESCRIPTION:Besloten optreden door The College Barbers
URL:https://www.mp-pianissimo.nl/event/besloten-optreden-the-college-barbers
CATEGORIES:Koren,Optredens,The College Barbers
END:VEVENT
END:VCALENDAR